Package: GladiaTOX Version: 1.25.3 Command: rm -rf GladiaTOX.buildbin-libdir && mkdir GladiaTOX.buildbin-libdir && /Users/biocbuild/BBS/utils/build-universal.sh GladiaTOX_1.25.3.tar.gz /Library/Frameworks/R.framework/Resources/bin/R GladiaTOX.buildbin-libdir StartedAt: 2025-10-28 23:01:42 -0400 (Tue, 28 Oct 2025) EndedAt: 2025-10-28 23:01:48 -0400 (Tue, 28 Oct 2025) EllapsedTime: 6.1 seconds RetCode: 0 Status: OK PackageFile: GladiaTOX_1.25.3.tgz PackageFileSize: 4.21 MiB