Package: GeomxTools Version: 3.15.0 Command: /home/biocbuild/bbs-3.23-bioc/R/bin/R CMD INSTALL GeomxTools StartedAt: 2025-11-20 15:15:19 -0500 (Thu, 20 Nov 2025) EndedAt: 2025-11-20 15:15:45 -0500 (Thu, 20 Nov 2025) EllapsedTime: 26.1 seconds RetCode: 0 Status: OK