Package: GeomxTools Version: 3.15.0 Command: /home/biocbuild/bbs-3.23-bioc/R/bin/R CMD check --install=check:GeomxTools.install-out.txt --library=/home/biocbuild/bbs-3.23-bioc/R/site-library --timings GeomxTools_3.15.0.tar.gz StartedAt: 2025-11-21 00:00:39 -0500 (Fri, 21 Nov 2025) EndedAt: 2025-11-21 00:25:07 -0500 (Fri, 21 Nov 2025) EllapsedTime: 1467.4 seconds RetCode: 0 Status: OK CheckDir: GeomxTools.Rcheck Warnings: 0