Package: GeomxTools Version: 3.15.0 Command: /home/biocbuild/bbs-3.23-bioc/R/bin/R CMD build --keep-empty-dirs --no-resave-data GeomxTools StartedAt: 2025-11-20 17:48:37 -0500 (Thu, 20 Nov 2025) EndedAt: 2025-11-20 17:54:23 -0500 (Thu, 20 Nov 2025) EllapsedTime: 345.3 seconds RetCode: 0 Status: OK PackageFile: GeomxTools_3.15.0.tar.gz PackageFileSize: 15.63 MiB