Package: GeomxTools Version: 3.13.1 Command: /Library/Frameworks/R.framework/Resources/bin/R CMD check --install=check:GeomxTools.install-out.txt --library=/Library/Frameworks/R.framework/Resources/library --no-vignettes --timings GeomxTools_3.13.1.tar.gz StartedAt: 2025-10-21 19:59:43 -0400 (Tue, 21 Oct 2025) EndedAt: 2025-10-21 20:06:38 -0400 (Tue, 21 Oct 2025) EllapsedTime: 415.0 seconds RetCode: 0 Status: OK CheckDir: GeomxTools.Rcheck Warnings: 0