Package: GeoTcgaData Version: 2.9.0 Command: rm -rf GeoTcgaData.buildbin-libdir && mkdir GeoTcgaData.buildbin-libdir && F:\biocbuild\bbs-3.22-bioc\R\bin\R.exe CMD INSTALL --build --library=GeoTcgaData.buildbin-libdir GeoTcgaData_2.9.0.tar.gz StartedAt: 2025-06-19 09:10:53 -0400 (Thu, 19 Jun 2025) EndedAt: 2025-06-19 09:11:49 -0400 (Thu, 19 Jun 2025) EllapsedTime: 56.0 seconds RetCode: 0 Status: OK PackageFile: GeoTcgaData_2.9.0.zip PackageFileSize: 3.427 MiB