Package: GeoTcgaData Version: 2.11.0 Command: /home/biocbuild/bbs-3.23-bioc/R/bin/R CMD build --keep-empty-dirs --no-resave-data GeoTcgaData StartedAt: 2025-11-07 17:45:19 -0500 (Fri, 07 Nov 2025) EndedAt: 2025-11-07 17:46:24 -0500 (Fri, 07 Nov 2025) EllapsedTime: 65.0 seconds RetCode: 0 Status: OK PackageFile: GeoTcgaData_2.11.0.tar.gz PackageFileSize: 3.318 MiB