Package: GenomicTuples Version: 1.45.0 Command: /home/biocbuild/bbs-3.23-bioc/R/bin/R CMD INSTALL GenomicTuples StartedAt: 2025-11-20 15:30:47 -0500 (Thu, 20 Nov 2025) EndedAt: 2025-11-20 15:31:13 -0500 (Thu, 20 Nov 2025) EllapsedTime: 26.2 seconds RetCode: 0 Status: OK