Package: GenomicTuples Version: 1.43.1 Command: /Library/Frameworks/R.framework/Resources/bin/R CMD INSTALL GenomicTuples StartedAt: 2025-10-28 15:19:39 -0400 (Tue, 28 Oct 2025) EndedAt: 2025-10-28 15:20:18 -0400 (Tue, 28 Oct 2025) EllapsedTime: 39.3 seconds RetCode: 0 Status: OK