Package: GenomicTuples Version: 1.43.1 Command: /Library/Frameworks/R.framework/Resources/bin/R CMD build --keep-empty-dirs --no-resave-data GenomicTuples StartedAt: 2025-10-27 17:04:55 -0400 (Mon, 27 Oct 2025) EndedAt: 2025-10-27 17:05:39 -0400 (Mon, 27 Oct 2025) EllapsedTime: 43.5 seconds RetCode: 0 Status: OK PackageFile: GenomicTuples_1.43.1.tar.gz PackageFileSize: 303.1 KiB