Package: GenomicTuples Version: 1.43.1 Command: rm -rf GenomicTuples.buildbin-libdir && mkdir GenomicTuples.buildbin-libdir && /Users/biocbuild/BBS/utils/build-universal.sh GenomicTuples_1.43.1.tar.gz /Library/Frameworks/R.framework/Resources/bin/R GenomicTuples.buildbin-libdir StartedAt: 2025-10-29 01:36:50 -0400 (Wed, 29 Oct 2025) EndedAt: 2025-10-29 01:37:28 -0400 (Wed, 29 Oct 2025) EllapsedTime: 38.0 seconds RetCode: 0 Status: OK PackageFile: GenomicTuples_1.43.1.tgz PackageFileSize: 894.9 KiB