Package: GenomicTuples Version: 1.43.1 Command: /Library/Frameworks/R.framework/Resources/bin/R CMD INSTALL GenomicTuples StartedAt: 2025-10-12 15:17:33 -0400 (Sun, 12 Oct 2025) EndedAt: 2025-10-12 15:17:43 -0400 (Sun, 12 Oct 2025) EllapsedTime: 9.9 seconds RetCode: 0 Status: OK