Package: GenomicTuples Version: 1.43.1 Command: /Library/Frameworks/R.framework/Resources/bin/R CMD build --keep-empty-dirs --no-resave-data GenomicTuples StartedAt: 2025-10-12 16:28:19 -0400 (Sun, 12 Oct 2025) EndedAt: 2025-10-12 16:28:34 -0400 (Sun, 12 Oct 2025) EllapsedTime: 15.1 seconds RetCode: 0 Status: OK PackageFile: GenomicTuples_1.43.1.tar.gz PackageFileSize: 303.4 KiB