Package: GenomicTuples Version: 1.45.0 Maintainer: Peter Hickey MaintainerEmail: peter.hickey at gmail.com git_url: https://git.bioconductor.org/packages/GenomicTuples git_branch: devel git_last_commit: 8f1b003 git_last_commit_date: 2025-10-29 10:22:11 -0400 (Wed, 29 Oct 2025)