Package: GenomicSuperSignature Version: 1.19.0 Command: /home/biocbuild/bbs-3.23-bioc/R/bin/R CMD INSTALL GenomicSuperSignature StartedAt: 2025-11-20 15:31:19 -0500 (Thu, 20 Nov 2025) EndedAt: 2025-11-20 15:31:50 -0500 (Thu, 20 Nov 2025) EllapsedTime: 30.4 seconds RetCode: 0 Status: OK