Package: GenomicSuperSignature Version: 1.17.1 Command: /Library/Frameworks/R.framework/Resources/bin/R CMD INSTALL GenomicSuperSignature StartedAt: 2025-10-22 15:28:35 -0400 (Wed, 22 Oct 2025) EndedAt: 2025-10-22 15:29:17 -0400 (Wed, 22 Oct 2025) EllapsedTime: 41.6 seconds RetCode: 0 Status: OK