Package: GenomicSuperSignature Version: 1.17.1 Command: /Library/Frameworks/R.framework/Resources/bin/R CMD build --keep-empty-dirs --no-resave-data GenomicSuperSignature StartedAt: 2025-10-22 17:06:28 -0400 (Wed, 22 Oct 2025) EndedAt: 2025-10-22 17:09:30 -0400 (Wed, 22 Oct 2025) EllapsedTime: 181.8 seconds RetCode: 0 Status: OK PackageFile: GenomicSuperSignature_1.17.1.tar.gz PackageFileSize: 6.355 MiB