Package: GenomicSuperSignature Version: 1.17.1 Command: rm -rf GenomicSuperSignature.buildbin-libdir && mkdir GenomicSuperSignature.buildbin-libdir && /Users/biocbuild/BBS/utils/build-universal.sh GenomicSuperSignature_1.17.1.tar.gz /Library/Frameworks/R.framework/Resources/bin/R GenomicSuperSignature.buildbin-libdir StartedAt: 2025-10-23 01:34:36 -0400 (Thu, 23 Oct 2025) EndedAt: 2025-10-23 01:35:25 -0400 (Thu, 23 Oct 2025) EllapsedTime: 49.2 seconds RetCode: 0 Status: OK PackageFile: GenomicSuperSignature_1.17.1.tgz PackageFileSize: 6.996 MiB