Package: GenomicSuperSignature Version: 1.17.1 Command: /Library/Frameworks/R.framework/Resources/bin/R CMD INSTALL GenomicSuperSignature StartedAt: 2025-10-08 15:22:56 -0400 (Wed, 08 Oct 2025) EndedAt: 2025-10-08 15:23:08 -0400 (Wed, 08 Oct 2025) EllapsedTime: 12.0 seconds RetCode: 0 Status: OK