Package: GenomicSuperSignature Version: 1.17.1 Command: /Library/Frameworks/R.framework/Resources/bin/R CMD build --keep-empty-dirs --no-resave-data GenomicSuperSignature StartedAt: 2025-10-08 16:36:38 -0400 (Wed, 08 Oct 2025) EndedAt: 2025-10-08 16:38:55 -0400 (Wed, 08 Oct 2025) EllapsedTime: 137.3 seconds RetCode: 0 Status: OK PackageFile: GenomicSuperSignature_1.17.1.tar.gz PackageFileSize: 6.357 MiB