Package: GenomicSuperSignature Version: 1.17.1 Maintainer: Sehyun Oh MaintainerEmail: shbrief at gmail.com git_url: https://git.bioconductor.org/packages/GenomicSuperSignature git_branch: devel git_last_commit: cec2039 git_last_commit_date: 2025-10-05 22:12:57 -0400 (Sun, 05 Oct 2025)