Package: GenomicScores Version: 2.21.4 Command: /home/biocbuild/bbs-3.22-bioc/R/bin/R CMD INSTALL GenomicScores StartedAt: 2025-10-09 15:37:13 -0400 (Thu, 09 Oct 2025) EndedAt: 2025-10-09 15:37:45 -0400 (Thu, 09 Oct 2025) EllapsedTime: 31.7 seconds RetCode: 0 Status: OK