Package: GenomicScores Version: 2.21.4 Command: /home/biocbuild/bbs-3.22-bioc/R/bin/R CMD build --keep-empty-dirs --no-resave-data --md5 GenomicScores StartedAt: 2025-10-09 17:52:06 -0400 (Thu, 09 Oct 2025) EndedAt: 2025-10-09 17:54:18 -0400 (Thu, 09 Oct 2025) EllapsedTime: 132.1 seconds RetCode: 0 Status: OK PackageFile: GenomicScores_2.21.4.tar.gz PackageFileSize: 1.779 MiB