Package: GenomicRanges Version: 1.63.0 Command: /home/biocbuild/bbs-3.23-bioc/R/bin/R CMD INSTALL GenomicRanges StartedAt: 2025-11-05 15:21:36 -0500 (Wed, 05 Nov 2025) EndedAt: 2025-11-05 15:21:56 -0500 (Wed, 05 Nov 2025) EllapsedTime: 20.0 seconds RetCode: 0 Status: OK