Package: GenomicRanges Version: 1.63.0 Command: /home/biocbuild/bbs-3.23-bioc/R/bin/R CMD build --keep-empty-dirs --no-resave-data GenomicRanges StartedAt: 2025-11-05 17:50:05 -0500 (Wed, 05 Nov 2025) EndedAt: 2025-11-05 17:52:59 -0500 (Wed, 05 Nov 2025) EllapsedTime: 173.2 seconds RetCode: 0 Status: OK PackageFile: GenomicRanges_1.63.0.tar.gz PackageFileSize: 1.309 MiB