Package: GenomicRanges Version: 1.61.5 Command: /Library/Frameworks/R.framework/Resources/bin/R CMD INSTALL GenomicRanges StartedAt: 2025-10-12 15:17:44 -0400 (Sun, 12 Oct 2025) EndedAt: 2025-10-12 15:18:13 -0400 (Sun, 12 Oct 2025) EllapsedTime: 28.8 seconds RetCode: 0 Status: OK