Package: GenomicRanges Version: 1.61.5 Command: /Library/Frameworks/R.framework/Resources/bin/R CMD build --keep-empty-dirs --no-resave-data GenomicRanges StartedAt: 2025-10-12 17:14:57 -0400 (Sun, 12 Oct 2025) EndedAt: 2025-10-12 17:19:21 -0400 (Sun, 12 Oct 2025) EllapsedTime: 263.7 seconds RetCode: 0 Status: OK PackageFile: GenomicRanges_1.61.5.tar.gz PackageFileSize: 1.301 MiB