Package: GenomicRanges Version: 1.61.5 Command: rm -rf GenomicRanges.buildbin-libdir && mkdir GenomicRanges.buildbin-libdir && /Users/biocbuild/BBS/utils/build-universal.sh GenomicRanges_1.61.5.tar.gz /Library/Frameworks/R.framework/Resources/bin/R GenomicRanges.buildbin-libdir StartedAt: 2025-10-14 02:46:04 -0400 (Tue, 14 Oct 2025) EndedAt: 2025-10-14 02:46:41 -0400 (Tue, 14 Oct 2025) EllapsedTime: 36.8 seconds RetCode: 0 Status: OK PackageFile: GenomicRanges_1.61.5.tgz PackageFileSize: 2.298 MiB