Package: GenomicRanges Version: 1.61.5 Maintainer: Hervé Pagès MaintainerEmail: hpages.on.github at gmail.com git_url: https://git.bioconductor.org/packages/GenomicRanges git_branch: devel git_last_commit: e7fd1bf git_last_commit_date: 2025-09-22 15:15:58 -0400 (Mon, 22 Sep 2025)