Package: GenomicPlot Version: 1.7.2 Command: /home/biocbuild/bbs-3.22-bioc/R/bin/R CMD check --install=check:GenomicPlot.install-out.txt --library=/home/biocbuild/bbs-3.22-bioc/R/site-library --timings GenomicPlot_1.7.2.tar.gz StartedAt: 2025-10-11 00:25:51 -0400 (Sat, 11 Oct 2025) EndedAt: 2025-10-11 00:38:40 -0400 (Sat, 11 Oct 2025) EllapsedTime: 768.9 seconds RetCode: 0 Status: OK CheckDir: GenomicPlot.Rcheck Warnings: 0