Package: GenomicPlot Version: 1.9.0 Command: /home/biocbuild/bbs-3.23-bioc/R/bin/R CMD INSTALL GenomicPlot StartedAt: 2025-11-04 15:42:30 -0500 (Tue, 04 Nov 2025) EndedAt: 2025-11-04 15:43:24 -0500 (Tue, 04 Nov 2025) EllapsedTime: 53.2 seconds RetCode: 0 Status: OK