Package: GenomicPlot Version: 1.9.0 Command: /home/biocbuild/bbs-3.23-bioc/R/bin/R CMD check --install=check:GenomicPlot.install-out.txt --library=/home/biocbuild/bbs-3.23-bioc/R/site-library --timings GenomicPlot_1.9.0.tar.gz StartedAt: 2025-11-06 23:42:06 -0500 (Thu, 06 Nov 2025) EndedAt: 2025-11-06 23:55:12 -0500 (Thu, 06 Nov 2025) EllapsedTime: 786.1 seconds RetCode: 0 Status: OK CheckDir: GenomicPlot.Rcheck Warnings: 0