Package: GenomicPlot Version: 1.9.0 Command: /home/biocbuild/bbs-3.23-bioc/R/bin/R CMD build --keep-empty-dirs --no-resave-data GenomicPlot StartedAt: 2025-11-04 17:42:51 -0500 (Tue, 04 Nov 2025) EndedAt: 2025-11-04 17:45:28 -0500 (Tue, 04 Nov 2025) EllapsedTime: 157.1 seconds RetCode: 0 Status: OK PackageFile: GenomicPlot_1.9.0.tar.gz PackageFileSize: 3.756 MiB