Package: GenomicOZone Version: 1.25.0 Command: /home/biocbuild/bbs-3.23-bioc/R/bin/R CMD build --keep-empty-dirs --no-resave-data GenomicOZone StartedAt: 2025-11-02 17:46:16 -0500 (Sun, 02 Nov 2025) EndedAt: 2025-11-02 17:48:36 -0500 (Sun, 02 Nov 2025) EllapsedTime: 139.1 seconds RetCode: 0 Status: OK PackageFile: GenomicOZone_1.25.0.tar.gz PackageFileSize: 1.276 MiB