Package: GenomicInteractions Version: 1.45.0 Command: /home/biocbuild/bbs-3.23-bioc/R/bin/R CMD INSTALL GenomicInteractions StartedAt: 2025-11-06 15:49:17 -0500 (Thu, 06 Nov 2025) EndedAt: 2025-11-06 15:50:45 -0500 (Thu, 06 Nov 2025) EllapsedTime: 88.1 seconds RetCode: 0 Status: OK