Package: GenomicInteractions Version: 1.45.0 Command: /home/biocbuild/bbs-3.23-bioc/R/bin/R CMD build --keep-empty-dirs --no-resave-data GenomicInteractions StartedAt: 2025-11-06 17:42:38 -0500 (Thu, 06 Nov 2025) EndedAt: 2025-11-06 17:45:52 -0500 (Thu, 06 Nov 2025) EllapsedTime: 193.2 seconds RetCode: 0 Status: OK PackageFile: GenomicInteractions_1.45.0.tar.gz PackageFileSize: 3.479 MiB