Package: GenomicInteractions Version: 1.43.1 Command: /Library/Frameworks/R.framework/Resources/bin/R CMD INSTALL GenomicInteractions StartedAt: 2025-10-16 15:38:04 -0400 (Thu, 16 Oct 2025) EndedAt: 2025-10-16 15:38:41 -0400 (Thu, 16 Oct 2025) EllapsedTime: 36.6 seconds RetCode: 0 Status: OK