Package: GenomicInteractions Version: 1.43.1 Command: /Library/Frameworks/R.framework/Resources/bin/R CMD build --keep-empty-dirs --no-resave-data GenomicInteractions StartedAt: 2025-10-16 16:41:25 -0400 (Thu, 16 Oct 2025) EndedAt: 2025-10-16 16:42:37 -0400 (Thu, 16 Oct 2025) EllapsedTime: 71.7 seconds RetCode: 0 Status: OK PackageFile: GenomicInteractions_1.43.1.tar.gz PackageFileSize: 3.527 MiB