Package: GenomicInteractions Version: 1.43.1 Command: rm -rf GenomicInteractions.buildbin-libdir && mkdir GenomicInteractions.buildbin-libdir && /Users/biocbuild/BBS/utils/build-universal.sh GenomicInteractions_1.43.1.tar.gz /Library/Frameworks/R.framework/Resources/bin/R GenomicInteractions.buildbin-libdir StartedAt: 2025-10-16 23:02:43 -0400 (Thu, 16 Oct 2025) EndedAt: 2025-10-16 23:03:23 -0400 (Thu, 16 Oct 2025) EllapsedTime: 40.8 seconds RetCode: 0 Status: OK PackageFile: GenomicInteractions_1.43.1.tgz PackageFileSize: 4.028 MiB