Package: GenomicInteractionNodes Version: 1.13.1 Command: /home/biocbuild/R/R/bin/R CMD INSTALL GenomicInteractionNodes StartedAt: 2025-09-29 21:20:03 -0000 (Mon, 29 Sep 2025) EndedAt: 2025-09-29 21:20:46 -0000 (Mon, 29 Sep 2025) EllapsedTime: 43.5 seconds RetCode: 0 Status: OK