Package: GenomicInteractionNodes Version: 1.13.1 Command: /home/biocbuild/R/R/bin/R CMD build --keep-empty-dirs --no-resave-data GenomicInteractionNodes StartedAt: 2025-09-30 00:11:49 -0000 (Tue, 30 Sep 2025) EndedAt: 2025-09-30 00:13:46 -0000 (Tue, 30 Sep 2025) EllapsedTime: 117.0 seconds RetCode: 0 Status: OK PackageFile: GenomicInteractionNodes_1.13.1.tar.gz PackageFileSize: 274.5 KiB