Package: GenomicInteractionNodes Version: 1.15.0 Command: /home/biocbuild/bbs-3.23-bioc/R/bin/R CMD INSTALL GenomicInteractionNodes StartedAt: 2025-11-04 15:44:14 -0500 (Tue, 04 Nov 2025) EndedAt: 2025-11-04 15:44:48 -0500 (Tue, 04 Nov 2025) EllapsedTime: 34.4 seconds RetCode: 0 Status: OK