Package: GenomicInteractionNodes Version: 1.15.0 Command: /home/biocbuild/bbs-3.23-bioc/R/bin/R CMD check --install=check:GenomicInteractionNodes.install-out.txt --library=/home/biocbuild/bbs-3.23-bioc/R/site-library --timings GenomicInteractionNodes_1.15.0.tar.gz StartedAt: 2025-11-06 23:39:47 -0500 (Thu, 06 Nov 2025) EndedAt: 2025-11-06 23:47:21 -0500 (Thu, 06 Nov 2025) EllapsedTime: 454.5 seconds RetCode: 0 Status: OK CheckDir: GenomicInteractionNodes.Rcheck Warnings: 0