Package: GenomicInteractionNodes Version: 1.15.0 Command: /home/biocbuild/bbs-3.23-bioc/R/bin/R CMD build --keep-empty-dirs --no-resave-data GenomicInteractionNodes StartedAt: 2025-11-04 17:42:39 -0500 (Tue, 04 Nov 2025) EndedAt: 2025-11-04 17:44:19 -0500 (Tue, 04 Nov 2025) EllapsedTime: 100.1 seconds RetCode: 0 Status: OK PackageFile: GenomicInteractionNodes_1.15.0.tar.gz PackageFileSize: 248.5 KiB