Package: GenomicFiles Version: 1.45.2 Command: /home/biocbuild/R/R/bin/R CMD INSTALL GenomicFiles StartedAt: 2025-10-13 21:43:14 -0000 (Mon, 13 Oct 2025) EndedAt: 2025-10-13 21:44:06 -0000 (Mon, 13 Oct 2025) EllapsedTime: 51.5 seconds RetCode: 0 Status: OK