Package: GenomicFiles Version: 1.45.2 Command: /home/biocbuild/R/R/bin/R CMD build --keep-empty-dirs --no-resave-data GenomicFiles StartedAt: 2025-10-14 00:27:04 -0000 (Tue, 14 Oct 2025) EndedAt: 2025-10-14 00:56:37 -0000 (Tue, 14 Oct 2025) EllapsedTime: 1772.6 seconds RetCode: 0 Status: OK PackageFile: GenomicFiles_1.45.2.tar.gz PackageFileSize: 736.7 KiB