Package: GenomicFiles Version: 1.47.0 Command: /home/biocbuild/bbs-3.23-bioc/R/bin/R CMD INSTALL GenomicFiles StartedAt: 2025-11-05 16:03:33 -0500 (Wed, 05 Nov 2025) EndedAt: 2025-11-05 16:04:13 -0500 (Wed, 05 Nov 2025) EllapsedTime: 40.4 seconds RetCode: 0 Status: OK