Package: GenomicFiles Version: 1.47.0 Command: /home/biocbuild/bbs-3.23-bioc/R/bin/R CMD check --install=check:GenomicFiles.install-out.txt --library=/home/biocbuild/bbs-3.23-bioc/R/site-library --timings GenomicFiles_1.47.0.tar.gz StartedAt: 2025-11-06 23:39:17 -0500 (Thu, 06 Nov 2025) EndedAt: 2025-11-06 23:45:56 -0500 (Thu, 06 Nov 2025) EllapsedTime: 399.4 seconds RetCode: 0 Status: OK CheckDir: GenomicFiles.Rcheck Warnings: 0