Package: GenomicFiles Version: 1.47.0 Command: /home/biocbuild/bbs-3.23-bioc/R/bin/R CMD build --keep-empty-dirs --no-resave-data GenomicFiles StartedAt: 2025-11-05 17:49:40 -0500 (Wed, 05 Nov 2025) EndedAt: 2025-11-05 17:50:52 -0500 (Wed, 05 Nov 2025) EllapsedTime: 72.1 seconds RetCode: 0 Status: OK PackageFile: GenomicFiles_1.47.0.tar.gz PackageFileSize: 712.6 KiB