Package: GenomicFeatures Version: 1.61.7 Command: /home/biocbuild/R/R/bin/R CMD INSTALL GenomicFeatures StartedAt: 2025-10-23 21:01:13 -0000 (Thu, 23 Oct 2025) EndedAt: 2025-10-23 21:01:59 -0000 (Thu, 23 Oct 2025) EllapsedTime: 46.4 seconds RetCode: 0 Status: OK